BEGIN:VCALENDAR
VERSION:2.0
PRODID:-//Plone.org//NONSGML plone.app.event//EN
X-WR-TIMEZONE:US/Pacific
BEGIN:VEVENT
SUMMARY:Intro to Frontcountry Trail Running - Poo Poo Point via Chirico Tr
 ail
DTSTART;VALUE=DATE:20240605
DTEND;VALUE=DATE:20240606
DTSTAMP;VALUE=DATE-TIME:20260421T015038Z
UID:0d9ed016aec94c70be0b36dc8043beac
CATEGORIES:Trail Running
DESCRIPTION:Learn and practice trail running skills at a local frontcountr
 y trail.\nThis run's focus will be technical terrain.
LOCATION:Poo Poo Point via Chirico Trail
URL:https://www.mountaineers.org/locations-lodges/foothills-branch/committ
 ees/foothills-branch-trail-running-committee/course-templates/introduction
 -to-trail-running-frontcountry-foothills/activities/intro-to-frontcountry-
 trail-running-poo-poo-point-via-chirico-trail
END:VEVENT
END:VCALENDAR
