BEGIN:VCALENDAR
VERSION:2.0
PRODID:-//Plone.org//NONSGML plone.app.event//EN
X-WR-TIMEZONE:US/Pacific
BEGIN:VEVENT
SUMMARY:Intro to Frontcountry Trail Running - Mima Falls
DTSTART;VALUE=DATE:20220612
DTEND;VALUE=DATE:20220613
DTSTAMP;VALUE=DATE-TIME:20260421T011856Z
UID:ddb48b25d224490c859a32c033669465
CATEGORIES:Trail Running
DESCRIPTION:Learn and practice trail running skills at a local frontcountr
 y trail.
LOCATION:Mima Falls
URL:https://www.mountaineers.org/locations-lodges/foothills-branch/committ
 ees/foothills-branch-trail-running-committee/course-templates/introduction
 -to-trail-running-frontcountry-foothills/activities/intro-to-frontcountry-
 trail-running-mima-falls
END:VEVENT
END:VCALENDAR
