BEGIN:VCALENDAR
VERSION:2.0
PRODID:-//Plone.org//NONSGML plone.app.event//EN
X-WR-TIMEZONE:US/Pacific
BEGIN:VEVENT
SUMMARY:Intro to Frontcountry Trail Running - Millersylvania State Park
DTSTART;VALUE=DATE:20210602
DTEND;VALUE=DATE:20210603
DTSTAMP;VALUE=DATE-TIME:20260423T025011Z
UID:8a97a0a81cd3407499d9b01c5868e3e2
CATEGORIES:Trail Running
DESCRIPTION:Learn and practice trail running skills at a local frontcountr
 y trail.
LOCATION:Millersylvania State Park
URL:https://www.mountaineers.org/locations-lodges/foothills-branch/committ
 ees/foothills-branch-trail-running-committee/course-templates/introduction
 -to-trail-running-frontcountry-foothills/activities/intro-to-frontcountry-
 trail-running-millersylvania-state-park
END:VEVENT
END:VCALENDAR
