BEGIN:VCALENDAR
VERSION:2.0
PRODID:-//Plone.org//NONSGML plone.app.event//EN
X-WR-TIMEZONE:US/Pacific
BEGIN:VEVENT
SUMMARY:Intro to Frontcountry Trail Running - Little Si
DTSTART;VALUE=DATE:20220517
DTEND;VALUE=DATE:20220518
DTSTAMP;VALUE=DATE-TIME:20260421T013821Z
UID:7c52c327ad65463ca18272517716c6d1
CATEGORIES:Trail Running
DESCRIPTION:Learn and practice trail running skills at a local frontcountr
 y trail. We will cover techniques for fast hiking/running uphill\, safety\
 , and other topics of interest to the group.
LOCATION:Little Si
URL:https://www.mountaineers.org/locations-lodges/foothills-branch/committ
 ees/foothills-branch-trail-running-committee/course-templates/introduction
 -to-trail-running-frontcountry-foothills/activities/intro-to-frontcountry-
 trail-running-little-si
END:VEVENT
END:VCALENDAR
