BEGIN:VCALENDAR
VERSION:2.0
PRODID:-//Plone.org//NONSGML plone.app.event//EN
X-WR-TIMEZONE:US/Pacific
BEGIN:VEVENT
SUMMARY:Intro to Frontcountry Trail Running - Howe Stairs
DTSTART;VALUE=DATE:20230424
DTEND;VALUE=DATE:20230425
DTSTAMP;VALUE=DATE-TIME:20260421T020442Z
UID:63bec6e1e70d40eeae75066cb7fdba8b
CATEGORIES:Trail Running
DESCRIPTION:Join our heart-healthy stairs workout to build cardio and quad
  strength for trail running and hiking hills! This is a friendly\, support
 ive group workout on the Howe Street Stairs in Seattle. All fitness levels
  welcomed! Rain or shine. For participants in the Intro to Frontcountry Tr
 ail Running and Intro to Trail Running Racing courses.
LOCATION:Howe Stairs
URL:https://www.mountaineers.org/locations-lodges/foothills-branch/committ
 ees/foothills-branch-trail-running-committee/course-templates/introduction
 -to-trail-running-frontcountry-foothills/activities/intro-to-frontcountry-
 trail-running-howe-stairs
END:VEVENT
END:VCALENDAR
