BEGIN:VCALENDAR
VERSION:2.0
PRODID:-//Plone.org//NONSGML plone.app.event//EN
X-WR-TIMEZONE:US/Pacific
BEGIN:VEVENT
SUMMARY:Intro to Frontcountry Trail Running - Forbes Creek Stairs
DTSTART;VALUE=DATE:20230418
DTEND;VALUE=DATE:20230419
DTSTAMP;VALUE=DATE-TIME:20260421T012519Z
UID:349f918b47ae4921a9b5bbf42e2200ee
CATEGORIES:Day Hiking,Trail Running
DESCRIPTION:Join our heart-healthy stairs workout to build cardio and quad
  strength for trail running and hiking hills! This is a friendly\, support
 ive group workout on the Forbes Creek Stairs in Kirkland. All fitness leve
 ls welcomed! Rain or shine. For participants in the Intro to Frontcountry 
 Trail Running and Intro to Trail Running Racing courses.
LOCATION:Forbes Creek Stairs
URL:https://www.mountaineers.org/locations-lodges/foothills-branch/committ
 ees/foothills-branch-trail-running-committee/course-templates/introduction
 -to-trail-running-frontcountry-foothills/activities/intro-to-frontcountry-
 trail-running-forbes-creek-stairs
END:VEVENT
END:VCALENDAR
