BEGIN:VCALENDAR
VERSION:2.0
PRODID:-//Plone.org//NONSGML plone.app.event//EN
X-WR-TIMEZONE:US/Pacific
BEGIN:VEVENT
SUMMARY:Intro to Frontcountry Trail Running - Dirty Harry's Balcony
DTSTART;VALUE=DATE:20210607
DTEND;VALUE=DATE:20210608
DTSTAMP;VALUE=DATE-TIME:20260421T012248Z
UID:15111f01d82247e7998035a361687043
CATEGORIES:Trail Running
DESCRIPTION:Learn and practice trail running skills at a local frontcountr
 y trail.
LOCATION:Dirty Harry's Balcony
URL:https://www.mountaineers.org/locations-lodges/foothills-branch/committ
 ees/foothills-branch-trail-running-committee/course-templates/introduction
 -to-trail-running-frontcountry-foothills/activities/intro-to-frontcountry-
 trail-running-dirty-harrys-balcony
END:VEVENT
END:VCALENDAR
