BEGIN:VCALENDAR
VERSION:2.0
PRODID:-//Plone.org//NONSGML plone.app.event//EN
X-WR-TIMEZONE:US/Pacific
BEGIN:VEVENT
SUMMARY:Intro to Frontcountry Trail Running - Dirty Harry's Balcony
DTSTART;VALUE=DATE:20220623
DTEND;VALUE=DATE:20220624
DTSTAMP;VALUE=DATE-TIME:20260421T012301Z
UID:2c3ef4a5a9ed455b8d3a25030b01ca96
CATEGORIES:Trail Running
DESCRIPTION:Learn and practice trail running skills at a local frontcountr
 y trail. We will cover techniques for fast hiking/running uphill\, safety\
 , and other topics of interest to the group.
LOCATION:Dirty Harry's Balcony
URL:https://www.mountaineers.org/locations-lodges/foothills-branch/committ
 ees/foothills-branch-trail-running-committee/course-templates/introduction
 -to-trail-running-frontcountry-foothills/activities/intro-to-frontcountry-
 trail-running-dirty-harrys-balcony-1
END:VEVENT
END:VCALENDAR
