BEGIN:VCALENDAR
VERSION:2.0
PRODID:-//Plone.org//NONSGML plone.app.event//EN
X-WR-TIMEZONE:US/Pacific
BEGIN:VEVENT
SUMMARY:Intro to Frontcountry Trail Running - Coal Creek Natural Area
DTSTART;VALUE=DATE:20210706
DTEND;VALUE=DATE:20210707
DTSTAMP;VALUE=DATE-TIME:20260421T015120Z
UID:760574fd581f45ab941087783c3d2c06
CATEGORIES:Trail Running
DESCRIPTION:Rescheduled from June 28th!\nLearn and practice trail running 
 skills at a local frontcountry trail.
LOCATION:Coal Creek Natural Area
URL:https://www.mountaineers.org/locations-lodges/foothills-branch/committ
 ees/foothills-branch-trail-running-committee/course-templates/introduction
 -to-trail-running-frontcountry-foothills/activities/intro-to-frontcountry-
 trail-running-coal-creek-natural-area-1
END:VEVENT
END:VCALENDAR
