BEGIN:VCALENDAR
VERSION:2.0
PRODID:-//Plone.org//NONSGML plone.app.event//EN
X-WR-TIMEZONE:US/Pacific
BEGIN:VEVENT
SUMMARY:Intro to Frontcountry Trail Running - Bridle Trails State Park
DTSTART;VALUE=DATE:20200421
DTEND;VALUE=DATE:20200422
DTSTAMP;VALUE=DATE-TIME:20260420T234658Z
UID:03ab003eb8d8452fa82ae7876ceaa369
CATEGORIES:Trail Running
DESCRIPTION:CANCELED DUE TO COVID-19 GUIDANCE FROM THE MOUNTAINEERS.
LOCATION:Bridle Trails State Park
URL:https://www.mountaineers.org/locations-lodges/foothills-branch/committ
 ees/foothills-branch-trail-running-committee/course-templates/introduction
 -to-trail-running-frontcountry-foothills/activities/intro-to-frontcountry-
 trail-running-bridle-trails-state-park-1
END:VEVENT
END:VCALENDAR
