BEGIN:VCALENDAR
VERSION:2.0
PRODID:-//Plone.org//NONSGML plone.app.event//EN
X-WR-TIMEZONE:US/Pacific
BEGIN:VEVENT
SUMMARY:Intro to Frontcountry Trail Running - Blake Island
DTSTART;VALUE=DATE:20200614
DTEND;VALUE=DATE:20200615
DTSTAMP;VALUE=DATE-TIME:20260420T234506Z
UID:3320da3594104a3cbeea77721056c77e
CATEGORIES:Trail Running
DESCRIPTION:The culmination of our frontcountry trail running course: spec
 ial trip to run at Blake Island!
LOCATION:Blake Island
URL:https://www.mountaineers.org/locations-lodges/foothills-branch/committ
 ees/foothills-branch-trail-running-committee/course-templates/introduction
 -to-trail-running-frontcountry-foothills/activities/intro-to-frontcountry-
 trail-running-blake-island
END:VEVENT
END:VCALENDAR
