BEGIN:VCALENDAR
VERSION:2.0
PRODID:-//Plone.org//NONSGML plone.app.event//EN
X-WR-TIMEZONE:US/Pacific
BEGIN:VEVENT
SUMMARY:Intro to Frontcountry Trail Running - Anti-Aircraft Peak
DTSTART;VALUE=DATE:20180512
DTEND;VALUE=DATE:20180513
DTSTAMP;VALUE=DATE-TIME:20260420T234618Z
UID:3270227d1abb46699429e056c7dc7036
CATEGORIES:Trail Running
DESCRIPTION:Learn how to get started with trail running on local frontcoun
 try trails.
LOCATION:Anti-Aircraft Peak
URL:https://www.mountaineers.org/locations-lodges/foothills-branch/committ
 ees/foothills-branch-trail-running-committee/course-templates/introduction
 -to-trail-running-frontcountry-foothills/activities/intro-to-frontcountry-
 trail-running-anti-aircraft-peak
END:VEVENT
END:VCALENDAR
