BEGIN:VCALENDAR
VERSION:2.0
PRODID:-//Plone.org//NONSGML plone.app.event//EN
X-WR-TIMEZONE:US/Pacific
BEGIN:VEVENT
SUMMARY:Classroom Session - SHOES-n-FEET\, Bellevue
DTSTART;VALUE=DATE:20190502
DTEND;VALUE=DATE:20190503
DTSTAMP;VALUE=DATE-TIME:20260420T234514Z
UID:8daeed54aa9f4d52ba4405242b6eaea5
CATEGORIES:Trail Running
DESCRIPTION:Learn how to get started with trail running: we'll cover how t
 his course works plus we will talk gear\, clothing\, route selection\, saf
 ety\, and more.
LOCATION:SHOES-n-FEET\, Bellevue
URL:https://www.mountaineers.org/locations-lodges/foothills-branch/committ
 ees/foothills-branch-trail-running-committee/course-templates/introduction
 -to-trail-running-frontcountry-foothills/activities/classroom-session-shoe
 s-n-feet-bellevue
END:VEVENT
END:VCALENDAR
