BEGIN:VCALENDAR
VERSION:2.0
PRODID:-//Plone.org//NONSGML plone.app.event//EN
X-WR-TIMEZONE:US/Pacific
BEGIN:VEVENT
SUMMARY:Classroom Session - Online Classroom
DTSTART;VALUE=DATE:20200507
DTEND;VALUE=DATE:20200508
DTSTAMP;VALUE=DATE-TIME:20260421T011408Z
UID:d15c2d044e894da0bb75255f2e2854ea
CATEGORIES:Trail Running
DESCRIPTION:Web conference will be held from 7:00-8:00pm.\nLearn how to ge
 t started with trail running: we'll cover how this course works plus we wi
 ll talk gear\, clothing\, route selection\, safety\, and more.
LOCATION:Online Classroom
URL:https://www.mountaineers.org/locations-lodges/foothills-branch/committ
 ees/foothills-branch-trail-running-committee/course-templates/introduction
 -to-trail-running-frontcountry-foothills/activities/classroom-session-onli
 ne-classroom
END:VEVENT
END:VCALENDAR
