BEGIN:VCALENDAR
VERSION:2.0
PRODID:-//Plone.org//NONSGML plone.app.event//EN
X-WR-TIMEZONE:US/Pacific
BEGIN:VEVENT
SUMMARY:Classroom Session - Online Classroom
DTSTART;VALUE=DATE:20230412
DTEND;VALUE=DATE:20230413
DTSTAMP;VALUE=DATE-TIME:20260423T021907Z
UID:d64c45aa386040fe877e77caf0d42449
CATEGORIES:Trail Running
DESCRIPTION:Learn how to get started with  trail running: we'll cover how 
 this course works plus we will talk gear\, clothing\, route selection\, sa
 fety\, and more.
LOCATION:Online Classroom
URL:https://www.mountaineers.org/locations-lodges/foothills-branch/committ
 ees/foothills-branch-trail-running-committee/course-templates/introduction
 -to-trail-running-frontcountry-foothills/activities/classroom-session-onli
 ne-classroom-3
END:VEVENT
END:VCALENDAR
