BEGIN:VCALENDAR
VERSION:2.0
PRODID:-//Plone.org//NONSGML plone.app.event//EN
X-WR-TIMEZONE:US/Pacific
BEGIN:VEVENT
SUMMARY:Classroom Session - Online Classroom
DTSTART;VALUE=DATE:20220509
DTEND;VALUE=DATE:20220510
DTSTAMP;VALUE=DATE-TIME:20260421T011348Z
UID:96bc97bc416b4579aee00ce095a9e9f5
CATEGORIES:Trail Running
DESCRIPTION:In this Zoom meeting we'll cover how this course works plus we
  will talk gear\, clothing\, route selection\, safety\, and more.
LOCATION:Online Classroom
URL:https://www.mountaineers.org/locations-lodges/foothills-branch/committ
 ees/foothills-branch-trail-running-committee/course-templates/introduction
 -to-trail-running-frontcountry-foothills/activities/classroom-session-onli
 ne-classroom-2
END:VEVENT
END:VCALENDAR
