BEGIN:VCALENDAR
VERSION:2.0
PRODID:-//Plone.org//NONSGML plone.app.event//EN
X-WR-TIMEZONE:US/Pacific
BEGIN:VEVENT
SUMMARY:Classroom Session - Online Classroom
DTSTART;VALUE=DATE:20210504
DTEND;VALUE=DATE:20210505
DTSTAMP;VALUE=DATE-TIME:20260421T011420Z
UID:e124bdd23d7b461dae44065466b70f6d
CATEGORIES:Trail Running
DESCRIPTION:Learn how to get started with  trail running: we'll cover how 
 this course works plus we will talk gear\, clothing\, route selection\, sa
 fety\, and more.
LOCATION:Online Classroom
URL:https://www.mountaineers.org/locations-lodges/foothills-branch/committ
 ees/foothills-branch-trail-running-committee/course-templates/introduction
 -to-trail-running-frontcountry-foothills/activities/classroom-session-onli
 ne-classroom-1
END:VEVENT
END:VCALENDAR
