BEGIN:VCALENDAR
VERSION:2.0
PRODID:-//Plone.org//NONSGML plone.app.event//EN
X-WR-TIMEZONE:US/Pacific
BEGIN:VEVENT
SUMMARY:Classroom Session - Mercer Island Public Library
DTSTART;VALUE=DATE:20180503
DTEND;VALUE=DATE:20180504
DTSTAMP;VALUE=DATE-TIME:20260420T234403Z
UID:01bd0b53b6ec4a67abeb7de070c3987b
CATEGORIES:Trail Running
DESCRIPTION:Classroom component of Introduction to Trail Running
LOCATION:Mercer Island Public Library
URL:https://www.mountaineers.org/locations-lodges/foothills-branch/committ
 ees/foothills-branch-trail-running-committee/course-templates/introduction
 -to-trail-running-frontcountry-foothills/activities/classroom-session-merc
 er-island-public-library
END:VEVENT
END:VCALENDAR
