BEGIN:VCALENDAR
VERSION:2.0
PRODID:-//Plone.org//NONSGML plone.app.event//EN
X-WR-TIMEZONE:US/Pacific
BEGIN:VEVENT
SUMMARY:Intro to Trail Running: Backcountry Field Trip - Lower Goodell Gro
 up Campground
DTSTART;VALUE=DATE:20190906
DTEND;VALUE=DATE:20190907
DTSTAMP;VALUE=DATE-TIME:20260420T062645Z
UID:1ea5fabc37d946928facfce8f897203f
CATEGORIES:Trail Running
DESCRIPTION:A weekend of trail running based out of this campsite for the 
 Introduction to Trail Running: Backcountry course members and friends!
LOCATION:Lower Goodell Group Campground
URL:https://www.mountaineers.org/locations-lodges/foothills-branch/committ
 ees/foothills-branch-trail-running-committee/course-templates/introduction
 -to-trail-running-backcountry-the-mountaineers/activities/intro-to-trail-r
 unning-backcountry-field-trip-lower-goodell-group-campground
END:VEVENT
END:VCALENDAR
