BEGIN:VCALENDAR
VERSION:2.0
PRODID:-//Plone.org//NONSGML plone.app.event//EN
X-WR-TIMEZONE:US/Pacific
BEGIN:VEVENT
SUMMARY:Intro to Trail Running: Backcountry Field Trip - Experience - Anne
 tte Lake
DTSTART;VALUE=DATE:20260718
DTEND;VALUE=DATE:20260719
DTSTAMP;VALUE=DATE-TIME:20260420T063709Z
UID:d0781b826fe34a22bf6c35038fabb8a3
CATEGORIES:Trail Running
DESCRIPTION:Fundamental skills experience trip.
LOCATION:Annette Lake
URL:https://www.mountaineers.org/locations-lodges/foothills-branch/committ
 ees/foothills-branch-trail-running-committee/course-templates/introduction
 -to-trail-running-backcountry-the-mountaineers/activities/intro-to-trail-r
 unning-backcountry-field-trip-experience-annette-lake-13
END:VEVENT
END:VCALENDAR
