BEGIN:VCALENDAR
VERSION:2.0
PRODID:-//Plone.org//NONSGML plone.app.event//EN
X-WR-TIMEZONE:US/Pacific
BEGIN:VEVENT
SUMMARY:Intro to Trail Running: Backcountry Field Trip - #2 - Dirty Harry'
 s Balcony
DTSTART;VALUE=DATE:20260705
DTEND;VALUE=DATE:20260706
DTSTAMP;VALUE=DATE-TIME:20260420T063707Z
UID:fc5c614a3d984b84a0d9b8242cde6ea8
CATEGORIES:Trail Running
DESCRIPTION:Introduction to fundamental skills.
LOCATION:Dirty Harry's Balcony
URL:https://www.mountaineers.org/locations-lodges/foothills-branch/committ
 ees/foothills-branch-trail-running-committee/course-templates/introduction
 -to-trail-running-backcountry-the-mountaineers/activities/intro-to-trail-r
 unning-backcountry-field-trip-2-dirty-harrys-balcony-14
END:VEVENT
END:VCALENDAR
