BEGIN:VCALENDAR
VERSION:2.0
PRODID:-//Plone.org//NONSGML plone.app.event//EN
X-WR-TIMEZONE:US/Pacific
BEGIN:VEVENT
SUMMARY:Intro to Trail Running: Backcountry Field Trip - #2 - Dirty Harry'
 s Balcony
DTSTART;VALUE=DATE:20260701
DTEND;VALUE=DATE:20260702
DTSTAMP;VALUE=DATE-TIME:20260420T063707Z
UID:e917562907e84a60bd7817a2c16fa47e
CATEGORIES:Trail Running
DESCRIPTION:Introduction to fundamental skills.
LOCATION:Dirty Harry's Balcony
URL:https://www.mountaineers.org/locations-lodges/foothills-branch/committ
 ees/foothills-branch-trail-running-committee/course-templates/introduction
 -to-trail-running-backcountry-the-mountaineers/activities/intro-to-trail-r
 unning-backcountry-field-trip-2-dirty-harrys-balcony-13
END:VEVENT
END:VCALENDAR
