BEGIN:VCALENDAR
VERSION:2.0
PRODID:-//Plone.org//NONSGML plone.app.event//EN
X-WR-TIMEZONE:US/Pacific
BEGIN:VEVENT
SUMMARY:Intro to Trail Running: Backcountry Field Trip - #1 - Little Si
DTSTART;VALUE=DATE:20260628
DTEND;VALUE=DATE:20260629
DTSTAMP;VALUE=DATE-TIME:20260420T063706Z
UID:acd7c0371af449199183893e8254c4b4
CATEGORIES:Trail Running
DESCRIPTION:Introduction to fundamental skills.
LOCATION:Little Si
URL:https://www.mountaineers.org/locations-lodges/foothills-branch/committ
 ees/foothills-branch-trail-running-committee/course-templates/introduction
 -to-trail-running-backcountry-the-mountaineers/activities/intro-to-trail-r
 unning-backcountry-field-trip-1-little-si-14
END:VEVENT
END:VCALENDAR
