BEGIN:VCALENDAR
VERSION:2.0
PRODID:-//Plone.org//NONSGML plone.app.event//EN
X-WR-TIMEZONE:US/Pacific
BEGIN:VEVENT
SUMMARY:Classroom Session - Online Classroom
DTSTART;VALUE=DATE:20260604
DTEND;VALUE=DATE:20260605
DTSTAMP;VALUE=DATE-TIME:20260420T063710Z
UID:31dc24a6fb1e4aeeaf69fc3cad8a4f50
CATEGORIES:Trail Running
DESCRIPTION:Classroom session covering topics such as skills\, gear\, and 
 resources to help you learn how to plan wilderness trail running routes an
 d run safely on backcountry trails.
LOCATION:Online Classroom
URL:https://www.mountaineers.org/locations-lodges/foothills-branch/committ
 ees/foothills-branch-trail-running-committee/course-templates/introduction
 -to-trail-running-backcountry-the-mountaineers/activities/classroom-sessio
 n-online-classroom-6
END:VEVENT
END:VCALENDAR
