BEGIN:VCALENDAR
VERSION:2.0
PRODID:-//Plone.org//NONSGML plone.app.event//EN
X-WR-TIMEZONE:US/Pacific
BEGIN:VEVENT
SUMMARY:Classroom Session - Cougar Mountain: Harvey Manning Trailhead
DTSTART;VALUE=DATE:20260611
DTEND;VALUE=DATE:20260612
DTSTAMP;VALUE=DATE-TIME:20260420T063710Z
UID:c48b8b4aee474180be0d9d135190a24a
CATEGORIES:Trail Running
DESCRIPTION:Outdoor classroom session meet and greet\, gear demo night.
LOCATION:Cougar Mountain: Harvey Manning Trailhead
URL:https://www.mountaineers.org/locations-lodges/foothills-branch/committ
 ees/foothills-branch-trail-running-committee/course-templates/introduction
 -to-trail-running-backcountry-the-mountaineers/activities/classroom-sessio
 n-cougar-mountain-harvey-manning-trailhead-6
END:VEVENT
END:VCALENDAR
