BEGIN:VCALENDAR
VERSION:2.0
PRODID:-//Plone.org//NONSGML plone.app.event//EN
X-WR-TIMEZONE:US/Pacific
BEGIN:VEVENT
SUMMARY:Vision 2022 Feedback Meeting North Sound - Please RSVP
DTSTART;VALUE=DATE-TIME:20170928T183000
DTEND;VALUE=DATE-TIME:20170928T210000
DTSTAMP;VALUE=DATE-TIME:20260420T182952Z
UID:814355e5025e44478290c5a8b4bfe11c@localhost:6081
CREATED;VALUE=DATE-TIME:20170712T002153Z
DESCRIPTION:A listening and information gathering session open to all Moun
 taineers interested in the next strategic plan: Vision 2022.
LAST-MODIFIED;VALUE=DATE-TIME:20170712T181935Z
LOCATION:Snohomish County PUD\, Commission Room
URL:https://www.mountaineers.org/locations-lodges/everett-branch/events/vi
 sion-2022-feedback-north-sound-round-2
END:VEVENT
BEGIN:VTIMEZONE
TZID:America/Los_Angeles
X-LIC-LOCATION:America/Los_Angeles
BEGIN:DAYLIGHT
DTSTART;VALUE=DATE-TIME:20170312T030000
TZNAME:PDT
TZOFFSETFROM:-0800
TZOFFSETTO:-0700
END:DAYLIGHT
END:VTIMEZONE
END:VCALENDAR
