BEGIN:VCALENDAR
VERSION:2.0
PRODID:-//Plone.org//NONSGML plone.app.event//EN
X-WR-TIMEZONE:US/Pacific
BEGIN:VEVENT
SUMMARY:National Trails Day Darrington
DTSTART;VALUE=DATE-TIME:20150606T083000
DTEND;VALUE=DATE-TIME:20150606T160000
DTSTAMP;VALUE=DATE-TIME:20260423T031440Z
UID:4bc7673cf5d241bd9aaddb832c22cc5c@localhost:6081
CREATED;VALUE=DATE-TIME:20150326T223451Z
DESCRIPTION:Join the Everett branch for a day of stewardship and trail mai
 ntenance on the White Chuck Bench trail outside Darrington 
LAST-MODIFIED;VALUE=DATE-TIME:20150402T000014Z
LOCATION:White Chuck Bench Trail
URL:https://www.mountaineers.org/locations-lodges/everett-branch/events/na
 tional-trails-day-darrington
END:VEVENT
BEGIN:VTIMEZONE
TZID:America/Los_Angeles
X-LIC-LOCATION:America/Los_Angeles
BEGIN:DAYLIGHT
DTSTART;VALUE=DATE-TIME:20150308T030000
TZNAME:PDT
TZOFFSETFROM:-0800
TZOFFSETTO:-0700
END:DAYLIGHT
END:VTIMEZONE
END:VCALENDAR
