BEGIN:VCALENDAR
VERSION:2.0
PRODID:-//Plone.org//NONSGML plone.app.event//EN
X-WR-TIMEZONE:US/Pacific
BEGIN:VEVENT
SUMMARY:Everett Nordic Ski Committee Meeting
DTSTART;VALUE=DATE-TIME:20260423T180000
DTEND;VALUE=DATE-TIME:20260423T210000
DTSTAMP;VALUE=DATE-TIME:20260420T114154Z
UID:75f9de011d544c80835c02efced416e5@localhost:6081
CREATED;VALUE=DATE-TIME:20260310T034507Z
DESCRIPTION:Committee meeting for the Everett Ski Committee to reflect on 
 the 2026 courses\, evavluate materials\, plan for activities for 2027 seas
 on.
LAST-MODIFIED;VALUE=DATE-TIME:20260310T054355Z
LOCATION:In person with dinner\, address to be emailed
URL:https://www.mountaineers.org/locations-lodges/everett-branch/events/ev
 erett-nordic-ski-committee-meeting-2023-08-17-2023-09-19-2024-03-19-2024-0
 4-23-2024-2026-04-23
END:VEVENT
BEGIN:VTIMEZONE
TZID:America/Los_Angeles
X-LIC-LOCATION:America/Los_Angeles
BEGIN:DAYLIGHT
DTSTART;VALUE=DATE-TIME:20260308T030000
TZNAME:PDT
TZOFFSETFROM:-0800
TZOFFSETTO:-0700
END:DAYLIGHT
END:VTIMEZONE
END:VCALENDAR
