BEGIN:VCALENDAR
VERSION:2.0
PRODID:-//Plone.org//NONSGML plone.app.event//EN
X-WR-TIMEZONE:US/Pacific
BEGIN:VEVENT
SUMMARY:Everett Mountaineers Sea Kayak Baker Lake Shindig
DTSTART;VALUE=DATE-TIME:20260904T150000
DTEND;VALUE=DATE-TIME:20260907T120000
DTSTAMP;VALUE=DATE-TIME:20260420T221233Z
UID:0dff62e08d374d56aca4046cea72ceea@localhost:6081
CREATED;VALUE=DATE-TIME:20251218T203504Z
DESCRIPTION:Join the Everett Sea Kayak community for a fun weekend at Hors
 eshoe Cove Campground at Baker Lake.  Family and friends are invited.  W
 e visit\, hike\, ride bikes\, walk dogs\, paddle\, read\, sleep\, and othe
 r stuff. Weather permitting there will be folks paddling on Saturday and S
 unday. There’s also a group potluck on Saturday night (9/5/26).  Hambur
 gers\, hot dogs\, buns\, and condiments will be provided so bring a side d
 ish and/or dessert to share and your own beverages.
LAST-MODIFIED;VALUE=DATE-TIME:20251219T012424Z
LOCATION:Horseshoe Cove Campground
URL:https://www.mountaineers.org/locations-lodges/everett-branch/events/ev
 erett-mountaineers-sea-kayak-baker-lake-shindig-2026-09-04
END:VEVENT
BEGIN:VTIMEZONE
TZID:America/Los_Angeles
X-LIC-LOCATION:America/Los_Angeles
BEGIN:DAYLIGHT
DTSTART;VALUE=DATE-TIME:20260308T030000
TZNAME:PDT
TZOFFSETFROM:-0800
TZOFFSETTO:-0700
END:DAYLIGHT
END:VTIMEZONE
END:VCALENDAR
