BEGIN:VCALENDAR
VERSION:2.0
PRODID:-//Plone.org//NONSGML plone.app.event//EN
X-WR-TIMEZONE:US/Pacific
BEGIN:VEVENT
SUMMARY:Everett LOTM Committee Meeting
DTSTART;VALUE=DATE-TIME:20260609T190000
DTEND;VALUE=DATE-TIME:20260609T200000
DTSTAMP;VALUE=DATE-TIME:20260420T114031Z
UID:007cbcc85b6845b0b54694b7b5f40fa8@localhost:6081
CREATED;VALUE=DATE-TIME:20260208T164626Z
DESCRIPTION:Monthly meeting for committee members and leaders to provide i
 nput and share knowledge and ideas\, as well as upcoming opportunities for
  stewardship events and activities!
LAST-MODIFIED;VALUE=DATE-TIME:20260208T164637Z
LOCATION:Virtual via Teams
URL:https://www.mountaineers.org/locations-lodges/everett-branch/events/ev
 erett-lotm-committee-meeting-33
END:VEVENT
BEGIN:VTIMEZONE
TZID:America/Los_Angeles
X-LIC-LOCATION:America/Los_Angeles
BEGIN:DAYLIGHT
DTSTART;VALUE=DATE-TIME:20260308T030000
TZNAME:PDT
TZOFFSETFROM:-0800
TZOFFSETTO:-0700
END:DAYLIGHT
END:VTIMEZONE
END:VCALENDAR
