BEGIN:VCALENDAR
VERSION:2.0
PRODID:-//Plone.org//NONSGML plone.app.event//EN
X-WR-TIMEZONE:US/Pacific
BEGIN:VEVENT
SUMMARY:Everett LOTM Committee Meeting
DTSTART;VALUE=DATE-TIME:20260512T190000
DTEND;VALUE=DATE-TIME:20260512T200000
DTSTAMP;VALUE=DATE-TIME:20260420T114008Z
UID:d07db23e12ab46e683ed07bbf64e6a40@localhost:6081
CREATED;VALUE=DATE-TIME:20251207T151116Z
DESCRIPTION:Monthly meeting for committee members and leaders to provide i
 nput and share knowledge and ideas\, as well as upcoming opportunities for
  stewardship events and activities!
LAST-MODIFIED;VALUE=DATE-TIME:20260204T011139Z
LOCATION:Lord Hill Red Barn
URL:https://www.mountaineers.org/locations-lodges/everett-branch/events/ev
 erett-lotm-committee-meeting-32
END:VEVENT
BEGIN:VTIMEZONE
TZID:America/Los_Angeles
X-LIC-LOCATION:America/Los_Angeles
BEGIN:DAYLIGHT
DTSTART;VALUE=DATE-TIME:20260308T030000
TZNAME:PDT
TZOFFSETFROM:-0800
TZOFFSETTO:-0700
END:DAYLIGHT
END:VTIMEZONE
END:VCALENDAR
