BEGIN:VCALENDAR
VERSION:2.0
PRODID:-//Plone.org//NONSGML plone.app.event//EN
X-WR-TIMEZONE:US/Pacific
BEGIN:VEVENT
SUMMARY:2017 Everett Branch Annual Potluck & Gear Grab 
DTSTART;VALUE=DATE-TIME:20170301T183000
DTEND;VALUE=DATE-TIME:20170301T210000
DTSTAMP;VALUE=DATE-TIME:20260420T234148Z
UID:59bcf12441f14ec8b8fd5df207ccae16@localhost:6081
CREATED;VALUE=DATE-TIME:20161129T203257Z
DESCRIPTION:Everett Branch Annual Pot Luck & Gear Grab 
LAST-MODIFIED;VALUE=DATE-TIME:20170215T211910Z
LOCATION:Everett United Church of Christ
URL:https://www.mountaineers.org/locations-lodges/everett-branch/events/co
 py_of_everett-branch-annual-pot-luck-gear-grab
END:VEVENT
BEGIN:VTIMEZONE
TZID:America/Los_Angeles
X-LIC-LOCATION:America/Los_Angeles
BEGIN:STANDARD
DTSTART;VALUE=DATE-TIME:20161106T010000
TZNAME:PST
TZOFFSETFROM:-0700
TZOFFSETTO:-0800
END:STANDARD
END:VTIMEZONE
END:VCALENDAR
