BEGIN:VCALENDAR
VERSION:2.0
PRODID:-//Plone.org//NONSGML plone.app.event//EN
X-WR-TIMEZONE:US/Pacific
BEGIN:VEVENT
SUMMARY:Old Trail Maintenance Crew Leader Class - Lord Hill Regional Park
DTSTART;VALUE=DATE:20180422
DTEND;VALUE=DATE:20180423
DTSTAMP;VALUE=DATE-TIME:20260421T011419Z
UID:7587f53a68304d47936b6168eea9bebb
CATEGORIES:Stewardship
DESCRIPTION:An opportunity to become a leader for the Mountaineers working
  on trails.\nThe Everett Branch National Trails Day Event is on Sat\, June
  2nd.\nWE always need crew leaders for this big event\, this class will gi
 ve you the skills to lead a crew.
LOCATION:Lord Hill Regional Park
URL:https://www.mountaineers.org/locations-lodges/everett-branch/committee
 s/everett-lookout-trail-maintenance-committee/seminars-clinics/trail-maint
 enance-crew-leader-class-lord-hill-park-2
END:VEVENT
END:VCALENDAR
