BEGIN:VCALENDAR
VERSION:2.0
PRODID:-//Plone.org//NONSGML plone.app.event//EN
X-WR-TIMEZONE:US/Pacific
BEGIN:VEVENT
SUMMARY:Old Trail Maintenance Crew Leader Class - Lord Hill Regional Park
DTSTART;VALUE=DATE:20170513
DTEND;VALUE=DATE:20170514
DTSTAMP;VALUE=DATE-TIME:20260420T234327Z
UID:5d5d5ae9fa454780bbca81861d67e61c
CATEGORIES:Stewardship
DESCRIPTION:Particitpants will learn: How to safely lead trail maintenance
  crews\, how to walk a trail and reconize maintenance issues\, how to give
  safety and tool talks.
LOCATION:Lord Hill Regional Park
URL:https://www.mountaineers.org/locations-lodges/everett-branch/committee
 s/everett-lookout-trail-maintenance-committee/seminars-clinics/trail-maint
 enance-crew-leader-class-lord-hill-park-1
END:VEVENT
END:VCALENDAR
