BEGIN:VCALENDAR
VERSION:2.0
PRODID:-//Plone.org//NONSGML plone.app.event//EN
X-WR-TIMEZONE:US/Pacific
BEGIN:VEVENT
SUMMARY:Old National Trails Day - Three O'Clock Rock
DTSTART;VALUE=DATE:20170603
DTEND;VALUE=DATE:20170604
DTSTAMP;VALUE=DATE-TIME:20260420T234213Z
UID:f6f6ed9c58324d06a18dc68a60275d02
CATEGORIES:Stewardship
DESCRIPTION:NATIONAL TRAILS DAY
LOCATION:Three O'Clock Rock
URL:https://www.mountaineers.org/locations-lodges/everett-branch/committee
 s/everett-lookout-trail-maintenance-committee/seminars-clinics/national-tr
 ails-day-three-oclock-rock
END:VEVENT
END:VCALENDAR
