BEGIN:VCALENDAR
VERSION:2.0
PRODID:-//Plone.org//NONSGML plone.app.event//EN
X-WR-TIMEZONE:US/Pacific
BEGIN:VEVENT
SUMMARY:Old Basic Trail Maintenance Class - Lord Hill Regional Park
DTSTART;VALUE=DATE:20170408
DTEND;VALUE=DATE:20170409
DTSTAMP;VALUE=DATE-TIME:20260420T234214Z
UID:5d5e03d38bee4e7cb950d0c7a9c8650b
CATEGORIES:Stewardship
DESCRIPTION:Participants will learn: Saftey on a trail maintenance work pa
 rty\, types of tools used\, types of maintenance needed on a trail and tec
 hinques used.
LOCATION:Lord Hill Regional Park
URL:https://www.mountaineers.org/locations-lodges/everett-branch/committee
 s/everett-lookout-trail-maintenance-committee/seminars-clinics/basic-trail
 -maintenance-class-lord-hill-park-2
END:VEVENT
END:VCALENDAR
