BEGIN:VCALENDAR
VERSION:2.0
PRODID:-//Plone.org//NONSGML plone.app.event//EN
X-WR-TIMEZONE:US/Pacific
BEGIN:VEVENT
SUMMARY:Old Basic Trail Maintenance Class - Lord Hill Regional Park
DTSTART;VALUE=DATE:20170218
DTEND;VALUE=DATE:20170219
DTSTAMP;VALUE=DATE-TIME:20260420T234213Z
UID:ce763cb406304a8b803e025bb69eee55
CATEGORIES:Stewardship
DESCRIPTION:Participants will learn: Saftey on a trail maintenance work pa
 rty\, types of tools used\, types of maintenance needed on a trail and the
  techinques used.
LOCATION:Lord Hill Regional Park
URL:https://www.mountaineers.org/locations-lodges/everett-branch/committee
 s/everett-lookout-trail-maintenance-committee/seminars-clinics/basic-trail
 -maintenance-class-lord-hill-park-1
END:VEVENT
END:VCALENDAR
