BEGIN:VCALENDAR
VERSION:2.0
PRODID:-//Plone.org//NONSGML plone.app.event//EN
X-WR-TIMEZONE:US/Pacific
BEGIN:VEVENT
SUMMARY:Crag top rope climbing clinic_Adults - Exit 38
DTSTART;VALUE=DATE:20260428
DTEND;VALUE=DATE:20260429
DTSTAMP;VALUE=DATE-TIME:20260424T114100Z
UID:a2cd03aaedf54ed291671b2c3aa0eb62
CATEGORIES:Climbing
DESCRIPTION:This clinic offers learning opportunities for top rope belayin
 g and climbing techniques in an outdoor (crag) setting for current Everett
  Basic Climbing Course students.
LOCATION:Exit 38
URL:https://www.mountaineers.org/locations-lodges/everett-branch/committee
 s/everett-climbing/seminars-clinics/crag-top-rope-climbing-clinic_adults-e
 xit-38
END:VEVENT
END:VCALENDAR
