BEGIN:VCALENDAR
VERSION:2.0
PRODID:-//Plone.org//NONSGML plone.app.event//EN
X-WR-TIMEZONE:US/Pacific
BEGIN:VEVENT
SUMMARY:Scrambling Rope Techniques Seminar - Online Classroom
DTSTART;VALUE=DATE:20200422
DTEND;VALUE=DATE:20200423
DTSTAMP;VALUE=DATE-TIME:20260419T174951Z
UID:df30eb6ce6c94d1f827702d5dd40a6b2
CATEGORIES:Scrambling
DESCRIPTION:Evening virtual seminar on techniques & considerations for usi
 ng a rope to assist an intimidated party member on scrambling terrain. Not
 e: Skills checks are not possible during COVID crisis. Thus\, this seminar
  is for info & learning only\, and may not fully satisfy requirements for 
 qualifying as a scramble leader.
LOCATION:Online Classroom
URL:https://www.mountaineers.org/locations-lodges/everett-branch/committee
 s/everett-alpine-scrambling-committee/seminars-clinics/scrambling-rope-tec
 hniques-seminar-online-classroom-1
END:VEVENT
END:VCALENDAR
