BEGIN:VCALENDAR
VERSION:2.0
PRODID:-//Plone.org//NONSGML plone.app.event//EN
X-WR-TIMEZONE:US/Pacific
BEGIN:VEVENT
SUMMARY:Everett Alpine Scrambling Snow Field Trip - Baker Lodge
DTSTART;VALUE=DATE:20170422
DTEND;VALUE=DATE:20170423
DTSTAMP;VALUE=DATE-TIME:20260422T131744Z
UID:4c91250e603345529a431cac9355ab0f
CATEGORIES:Scrambling
DESCRIPTION:Scrambling Snow Field Trip
LOCATION:Baker Lodge
URL:https://www.mountaineers.org/locations-lodges/everett-branch/committee
 s/everett-alpine-scrambling-committee/course-templates/alpine-scrambling-c
 ourse/activities/everett-alpine-scrambling-snow-field-trip-baker-lodge-2
END:VEVENT
END:VCALENDAR
