BEGIN:VCALENDAR
VERSION:2.0
PRODID:-//Plone.org//NONSGML plone.app.event//EN
X-WR-TIMEZONE:US/Pacific
BEGIN:VEVENT
SUMMARY:Bellingham Mountaineers Winter Speaker Series
DTSTART;VALUE=DATE-TIME:20240221T193000
DTEND;VALUE=DATE-TIME:20240221T203000
DTSTAMP;VALUE=DATE-TIME:20260419T124536Z
UID:d45f1d6410ea481ba3a3a1faba8ce243@localhost:6081
CREATED;VALUE=DATE-TIME:20231117T181846Z
DESCRIPTION:February 21- Scarlett Graham: Highlights from and Alaskan Expe
 dition
LAST-MODIFIED;VALUE=DATE-TIME:20240131T200827Z
LOCATION:upstairs at Backcountry Essentials
URL:https://www.mountaineers.org/locations-lodges/bellingham-branch/events
 /bellingham-mountaineers-winter-speaker-series-1
END:VEVENT
BEGIN:VTIMEZONE
TZID:America/Los_Angeles
X-LIC-LOCATION:America/Los_Angeles
BEGIN:STANDARD
DTSTART;VALUE=DATE-TIME:20231105T010000
TZNAME:PST
TZOFFSETFROM:-0700
TZOFFSETTO:-0800
END:STANDARD
END:VTIMEZONE
END:VCALENDAR
