BEGIN:VCALENDAR
VERSION:2.0
PRODID:-//Plone.org//NONSGML plone.app.event//EN
X-WR-TIMEZONE:US/Pacific
BEGIN:VEVENT
SUMMARY:Bellingham Climb Leader Progression Seminar: Peer Climb Leader/Cli
 mb Leader
DTSTART;VALUE=DATE-TIME:20260513T183000
DTEND;VALUE=DATE-TIME:20260513T203000
DTSTAMP;VALUE=DATE-TIME:20260420T215253Z
UID:9a2bea54240744219cca96d3355d0715@localhost:6081
CREATED;VALUE=DATE-TIME:20260420T183419Z
DESCRIPTION:Seminar to review the climb leadership progression with a focu
 s on the peer climb leader and full climb leader roles.  This is geared to
 wards Bellingham Branch members.
LAST-MODIFIED;VALUE=DATE-TIME:20260421T022535Z
LOCATION:American Alpine Institute
URL:https://www.mountaineers.org/locations-lodges/bellingham-branch/events
 /bellingham-climb-leader-progression-seminar-rope-leader-2026-05-13
END:VEVENT
BEGIN:VTIMEZONE
TZID:America/Los_Angeles
X-LIC-LOCATION:America/Los_Angeles
BEGIN:DAYLIGHT
DTSTART;VALUE=DATE-TIME:20260308T030000
TZNAME:PDT
TZOFFSETFROM:-0800
TZOFFSETTO:-0700
END:DAYLIGHT
END:VTIMEZONE
END:VCALENDAR
