BEGIN:VCALENDAR
VERSION:2.0
PRODID:-//Plone.org//NONSGML plone.app.event//EN
X-WR-TIMEZONE:US/Pacific
BEGIN:VEVENT
SUMMARY:Seattle Field Guide | Author Talk & Guided Walk
DTSTART;VALUE=DATE-TIME:20260624T183000
DTEND;VALUE=DATE-TIME:20260624T203000
DTSTAMP;VALUE=DATE-TIME:20260421T014414Z
UID:6aeb2abbee37494282c92ca6cddeaafe@localhost:6081
CREATED;VALUE=DATE-TIME:20260325T200451Z
DESCRIPTION:Birds Connect Seattle welcomes nature writers Kathryn True and
  Maria Dolan for a conversation about their new book Seattle Field Guide: 
 Explore Nature in the City\, a guide to 38 outdoor adventures across the g
 reater Seattle area.
LAST-MODIFIED;VALUE=DATE-TIME:20260407T233858Z
LOCATION:Birds Connect Seattle
URL:https://www.mountaineers.org/books/authors/events-web-series/seattle-f
 ield-guide-2026-06-24
END:VEVENT
BEGIN:VTIMEZONE
TZID:America/Los_Angeles
X-LIC-LOCATION:America/Los_Angeles
BEGIN:DAYLIGHT
DTSTART;VALUE=DATE-TIME:20260308T030000
TZNAME:PDT
TZOFFSETFROM:-0800
TZOFFSETTO:-0700
END:DAYLIGHT
END:VTIMEZONE
END:VCALENDAR
