BEGIN:VCALENDAR
VERSION:2.0
PRODID:-//Plone.org//NONSGML plone.app.event//EN
X-WR-TIMEZONE:US/Pacific
BEGIN:VEVENT
SUMMARY:Paddling the Salish Sea- Book Launch at REI
DTSTART;VALUE=DATE-TIME:20240605T180000
DTEND;VALUE=DATE-TIME:20240605T190000
DTSTAMP;VALUE=DATE-TIME:20260422T035437Z
UID:8d42c2c247404bbf99d94972935db94f@localhost:6081
CREATED;VALUE=DATE-TIME:20240518T001218Z
DESCRIPTION:Professional kayaker\, paddling coach\, and author Rob Casey p
 resents his new guidebook Paddling the Salish Sea to the REI Flagship.
LAST-MODIFIED;VALUE=DATE-TIME:20240530T185707Z
LOCATION:REI Flagship
URL:https://www.mountaineers.org/books/authors/events-web-series/paddling-
 the-salish-sea-book-launch-at-rei
END:VEVENT
BEGIN:VTIMEZONE
TZID:America/Los_Angeles
X-LIC-LOCATION:America/Los_Angeles
BEGIN:DAYLIGHT
DTSTART;VALUE=DATE-TIME:20240310T030000
TZNAME:PDT
TZOFFSETFROM:-0800
TZOFFSETTO:-0700
END:DAYLIGHT
END:VTIMEZONE
END:VCALENDAR
