BEGIN:VCALENDAR
VERSION:2.0
PRODID:-//Plone.org//NONSGML plone.app.event//EN
X-WR-TIMEZONE:US/Pacific
BEGIN:VEVENT
SUMMARY:Fall Color Hikes: Washington with Tami Asars
DTSTART;VALUE=DATE-TIME:20230906T190000
DTEND;VALUE=DATE-TIME:20230906T210000
DTSTAMP;VALUE=DATE-TIME:20260421T033208Z
UID:dd014d9ee46b4f9898ba07e18e5f11be@localhost:6081
CREATED;VALUE=DATE-TIME:20230710T205039Z
DESCRIPTION:Join Tami Asars\, author of "Fall Color Hikes: Washington\," a
 nd the Peninsula Wilderness Club for an evening of fall foliage hiking tip
 s.
LAST-MODIFIED;VALUE=DATE-TIME:20230808T205542Z
LOCATION:VFW Hall
URL:https://www.mountaineers.org/books/authors/events-web-series/fall-colo
 r-hikes-washington-with-tami-asars
END:VEVENT
BEGIN:VTIMEZONE
TZID:America/Los_Angeles
X-LIC-LOCATION:America/Los_Angeles
BEGIN:DAYLIGHT
DTSTART;VALUE=DATE-TIME:20230312T030000
TZNAME:PDT
TZOFFSETFROM:-0800
TZOFFSETTO:-0700
END:DAYLIGHT
END:VTIMEZONE
END:VCALENDAR
