BEGIN:VCALENDAR
VERSION:2.0
PRODID:-//Plone.org//NONSGML plone.app.event//EN
X-WR-TIMEZONE:US/Pacific
BEGIN:VEVENT
SUMMARY:Fall Color Hikes: Washington with Tami Asars (hybrid)
DTSTART;VALUE=DATE-TIME:20230922T190000
DTEND;VALUE=DATE-TIME:20230922T200000
DTSTAMP;VALUE=DATE-TIME:20260421T033618Z
UID:d649745506a84c42837ebb51b4c22c56@localhost:6081
CREATED;VALUE=DATE-TIME:20230206T210018Z
DESCRIPTION:Join author Tami Asars for a discussion of her book "Fall Colo
 r Hikes: Washington." Hosted by Wenatchee River Institute. This is a hybri
 d event\, so join us in-person or livestream via Zoom.
LAST-MODIFIED;VALUE=DATE-TIME:20230206T210141Z
LOCATION:Wenatchee River Institute's Red Barn
URL:https://www.mountaineers.org/books/authors/events-web-series/fall-colo
 r-hikes-washington-with-tami-asars-hybrid
END:VEVENT
BEGIN:VTIMEZONE
TZID:America/Los_Angeles
X-LIC-LOCATION:America/Los_Angeles
BEGIN:DAYLIGHT
DTSTART;VALUE=DATE-TIME:20230312T030000
TZNAME:PDT
TZOFFSETFROM:-0800
TZOFFSETTO:-0700
END:DAYLIGHT
END:VTIMEZONE
END:VCALENDAR
