BEGIN:VCALENDAR
VERSION:2.0
PRODID:-//Plone.org//NONSGML plone.app.event//EN
X-WR-TIMEZONE:US/Pacific
BEGIN:VEVENT
SUMMARY:Discovering the Best of Europe on Foot: How to Unplug\, Escape Tou
 rist Traps\, and Explore at a Human Pace
DTSTART;VALUE=DATE-TIME:20181016T180000
DTEND;VALUE=DATE-TIME:20181016T190000
DTSTAMP;VALUE=DATE-TIME:20260419T201851Z
UID:c4359c03a29b4d0e9f15334ecbc5c0e8@localhost:6081
CREATED;VALUE=DATE-TIME:20180912T194857Z
DESCRIPTION:Join us for Mountaineers Books’ October 16th live web event\
 , featuring Cassandra Overby and Beth Jusino\, the authors of "Explore Eur
 ope on Foot: Your Complete Guide to Planning a Cultural Hiking Adventure" 
 and "Walking to the End of the World: A Thousand Miles on the Camino de Sa
 ntiago." 
LAST-MODIFIED;VALUE=DATE-TIME:20181001T184736Z
LOCATION:Online event - Join from anywhere
URL:https://www.mountaineers.org/books/authors/events-web-series/discoveri
 ng-the-best-of-europe-on-foot-how-to-unplug-escape-tourist-traps-and-explo
 re-at-a-human-pace
END:VEVENT
BEGIN:VTIMEZONE
TZID:America/Los_Angeles
X-LIC-LOCATION:America/Los_Angeles
BEGIN:DAYLIGHT
DTSTART;VALUE=DATE-TIME:20180311T030000
TZNAME:PDT
TZOFFSETFROM:-0800
TZOFFSETTO:-0700
END:DAYLIGHT
END:VTIMEZONE
END:VCALENDAR
