BEGIN:VCALENDAR
VERSION:2.0
PRODID:-//Plone.org//NONSGML plone.app.event//EN
X-WR-TIMEZONE:US/Pacific
BEGIN:VEVENT
SUMMARY:Campfire Stories Reading & Book Signing
DTSTART;VALUE=DATE-TIME:20230818T190000
DTEND;VALUE=DATE-TIME:20230818T200000
DTSTAMP;VALUE=DATE-TIME:20260421T033037Z
UID:e98c370c8cdf4c81a3303d2703384da3@localhost:6081
CREATED;VALUE=DATE-TIME:20230710T205857Z
DESCRIPTION:Join Ilyssa Kyu and Dave Kyu\, editors of "Campfire Stories Vo
 lume II: Tales from America's National Parks and Trails" for a reading and
  book signing at Port Angeles Library\, hosted by Port Book and News\, on 
 Friday\, August 18 at 7:00 PM.
LAST-MODIFIED;VALUE=DATE-TIME:20230809T174358Z
LOCATION:Port Angeles Main Library
URL:https://www.mountaineers.org/books/authors/events-web-series/copy8_of_
 campfire-stories-vol-ii-1
END:VEVENT
BEGIN:VTIMEZONE
TZID:America/Los_Angeles
X-LIC-LOCATION:America/Los_Angeles
BEGIN:DAYLIGHT
DTSTART;VALUE=DATE-TIME:20230312T030000
TZNAME:PDT
TZOFFSETFROM:-0800
TZOFFSETTO:-0700
END:DAYLIGHT
END:VTIMEZONE
END:VCALENDAR
