BEGIN:VCALENDAR
VERSION:2.0
PRODID:-//Plone.org//NONSGML plone.app.event//EN
X-WR-TIMEZONE:US/Pacific
BEGIN:VEVENT
SUMMARY:Urban Adventure - Longmire
DTSTART;VALUE=DATE:20181230
DTEND;VALUE=DATE:20181231
DTSTAMP;VALUE=DATE-TIME:20260420T081829Z
UID:50847556b2994f5ea31732a72b24543c
CATEGORIES:Urban Adventure
DESCRIPTION:Family X-Co Ski\, tubing\, and snowshoeing adventure.  Based o
 n weather and age of participants we will go to Longmire trail\, Barnes Fl
 ats (between Longmire and Paradise) and/or Paradise for snow play
LOCATION:Longmire
URL:https://www.mountaineers.org/activities/activities/urban-adventure-lon
 gmire
END:VEVENT
END:VCALENDAR
