BEGIN:VCALENDAR
VERSION:2.0
PRODID:-//Plone.org//NONSGML plone.app.event//EN
X-WR-TIMEZONE:US/Pacific
BEGIN:VEVENT
SUMMARY:Stewardship - Thornton A Sullivan Park
DTSTART;VALUE=DATE:20170422
DTEND;VALUE=DATE:20170423
DTSTAMP;VALUE=DATE-TIME:20260420T233323Z
UID:1c9af80d1b5f4c4196a69e5fa8239b02
CATEGORIES:Stewardship
DESCRIPTION:Join Green Everett for a half day of stewardship (Note: two 1/
 2 days are required to earn one stewardship badge.)
LOCATION:Thornton A Sullivan Park
URL:https://www.mountaineers.org/activities/activities/stewardship-thornto
 n-a-sullivan-park
END:VEVENT
END:VCALENDAR
